BEGIN:VCALENDAR
VERSION:2.0
PRODID:-//TC Mötzingen e. V. - ECPv6.15.20//NONSGML v1.0//EN
CALSCALE:GREGORIAN
METHOD:PUBLISH
X-WR-CALNAME:TC Mötzingen e. V.
X-ORIGINAL-URL:https://tc-moetzingen.de
X-WR-CALDESC:Veranstaltungen für TC Mötzingen e. V.
REFRESH-INTERVAL;VALUE=DURATION:PT1H
X-Robots-Tag:noindex
X-PUBLISHED-TTL:PT1H
BEGIN:VTIMEZONE
TZID:Europe/Berlin
BEGIN:DAYLIGHT
TZOFFSETFROM:+0100
TZOFFSETTO:+0200
TZNAME:CEST
DTSTART:20250330T010000
END:DAYLIGHT
BEGIN:STANDARD
TZOFFSETFROM:+0200
TZOFFSETTO:+0100
TZNAME:CET
DTSTART:20251026T010000
END:STANDARD
BEGIN:DAYLIGHT
TZOFFSETFROM:+0100
TZOFFSETTO:+0200
TZNAME:CEST
DTSTART:20260329T010000
END:DAYLIGHT
BEGIN:STANDARD
TZOFFSETFROM:+0200
TZOFFSETTO:+0100
TZNAME:CET
DTSTART:20261025T010000
END:STANDARD
BEGIN:DAYLIGHT
TZOFFSETFROM:+0100
TZOFFSETTO:+0200
TZNAME:CEST
DTSTART:20270328T010000
END:DAYLIGHT
BEGIN:STANDARD
TZOFFSETFROM:+0200
TZOFFSETTO:+0100
TZNAME:CET
DTSTART:20271031T010000
END:STANDARD
END:VTIMEZONE
BEGIN:VEVENT
DTSTART;TZID=Europe/Berlin:20260705T090000
DTEND;TZID=Europe/Berlin:20260705T150000
DTSTAMP:20260425T180759
CREATED:20260416T194103Z
LAST-MODIFIED:20260416T194112Z
UID:1725-1783242000-1783263600@tc-moetzingen.de
SUMMARY:Spieltag Herren 1 : TC Gärtringen 2
DESCRIPTION:Heimspieltag Herren 1 gegen Gärtringen 2
URL:https://tc-moetzingen.de/veranstaltung/spieltag-herren-1-stc-gaertringen-2/
LOCATION:TC Mötzingen\, Wengenweg 23\, Mötzingen\, 71159\, Germany
CATEGORIES:Spieltage
END:VEVENT
END:VCALENDAR